BEGIN:VCALENDAR
VERSION:2.0
PRODID:researchseminars.org
CALSCALE:GREGORIAN
X-WR-CALNAME:researchseminars.org
BEGIN:VEVENT
SUMMARY:I. V. Volovich
DTSTART:20250929T060000Z
DTEND:20250929T070000Z
DTSTAMP:20260423T024759Z
UID:QOART2025/1
DESCRIPTION:Title: <a href="https://researchseminars.org/talk/QOART2025/1/
 ">Real quantum mechanics and entanglement photons</a>\nby I. V. Volovich a
 s part of Quantum Optics and Related Topics 2025\n\nAbstract: TBA\n
LOCATION:https://researchseminars.org/talk/QOART2025/1/
END:VEVENT
END:VCALENDAR
