BEGIN:VCALENDAR
VERSION:2.0
PRODID:researchseminars.org
CALSCALE:GREGORIAN
X-WR-CALNAME:researchseminars.org
BEGIN:VEVENT
SUMMARY:R. Singh
DTSTART:20240902T103000Z
DTEND:20240902T110000Z
DTSTAMP:20260423T022740Z
UID:QOART/5
DESCRIPTION:Title: <a href="https://researchseminars.org/talk/QOART/5/">Th
 e formation of Schrodinger cat-like states in the process of spontaneous p
 arametric down-conversion</a>\nby R. Singh as part of Quantum Optics and R
 elated Topics\n\n\nAbstract\nThe formation of Schrodinger cat-like states 
 during the spontaneous parametric down-conversion process (SPDC) is studie
 d when the pump mode is considered quantum and depleted. The Schrodinger c
 at-like state is formed in the fundamental and second harmonic modes\, and
  the negativity in both modes is studied for certain initial state conditi
 ons and interaction lengths. The Wigner function is used to visualize qual
 itatively Schrodinger cat-like states.\n\nhttps://arxiv.org/abs/2405.14526
 \n
LOCATION:https://researchseminars.org/talk/QOART/5/
END:VEVENT
END:VCALENDAR
