BEGIN:VCALENDAR
VERSION:2.0
PRODID:researchseminars.org
CALSCALE:GREGORIAN
X-WR-CALNAME:researchseminars.org
BEGIN:VEVENT
SUMMARY:V.V. Dodonov
DTSTART:20240909T134000Z
DTEND:20240909T151000Z
DTSTAMP:20260423T040215Z
UID:QOART/44
DESCRIPTION:Title: <a href="https://researchseminars.org/talk/QOART/44/">Q
 uantum dynamics of oscillator-like systems when some parameters change sig
 ns</a>\nby V.V. Dodonov as part of Quantum Optics and Related Topics\n\n\n
 Abstract\nI shall talk about some recent results concerning the evolution 
 of a quantum particle in time-dependent oscillator-like potentials\, when 
 the frequency or its square change the sign. The main attention is given t
 o the limit cases of adiabatic and fast evolutions. Applications to a char
 ged particle in time-dependent magnetic fields will be discussed\, as well
 .\n
LOCATION:https://researchseminars.org/talk/QOART/44/
END:VEVENT
END:VCALENDAR
