BEGIN:VCALENDAR
VERSION:2.0
PRODID:researchseminars.org
CALSCALE:GREGORIAN
X-WR-CALNAME:researchseminars.org
BEGIN:VEVENT
SUMMARY:J. Lugani
DTSTART:20240907T074000Z
DTEND:20240907T084000Z
DTSTAMP:20260423T005706Z
UID:QOART/30
DESCRIPTION:Title: <a href="https://researchseminars.org/talk/QOART/30/">I
 ntegrated platforms for quantum information processing</a>\nby J. Lugani a
 s part of Quantum Optics and Related Topics\n\n\nAbstract\nIntegrated opti
 cal platforms are bound to play crucial role in developing quantum optical
  technologies. Benefitting from their inherent stability\, scalability and
  tunability\, different integrated platforms are being widely explored for
  the generation and manipulation of photonics qubits. In this work\, I wil
 l provide a brief overview of how such quantum tasks are realized on optic
 al chips. In addition\, I will focus on a novel platform based on thin fil
 m lithium niobate to develop such quantum optical devices\n
LOCATION:https://researchseminars.org/talk/QOART/30/
END:VEVENT
END:VCALENDAR
