BEGIN:VCALENDAR
VERSION:2.0
PRODID:researchseminars.org
CALSCALE:GREGORIAN
X-WR-CALNAME:researchseminars.org
BEGIN:VEVENT
SUMMARY:L.L. Sanchez-Soto
DTSTART:20240905T060000Z
DTEND:20240905T073000Z
DTSTAMP:20260423T024547Z
UID:QOART/18
DESCRIPTION:Title: <a href="https://researchseminars.org/talk/QOART/18/">Q
 uantum Superresolution in Time and Frequency</a>\nby L.L. Sanchez-Soto as 
 part of Quantum Optics and Related Topics\n\n\nAbstract\nAccurate time is 
 at the core of many modern technologies. I will present new schemes that a
 llow one to achieve the ultimate quantum precision for the estimation of t
 he time (or frequency) offset of an incoherent mixture of ultrashort pulse
 s at the single-photon level. Amazingly\, these techniques are able to res
 olve temporal separations 10 times smaller than the pulse duration\, as we
 ll as imbalanced intensities differing by a factor of $10^2$. This represe
 nts an improvement of more than an order of magnitude over the best standa
 rd methods based on intensity detection and pave the way for new technolog
 ies in this field.\n
LOCATION:https://researchseminars.org/talk/QOART/18/
END:VEVENT
END:VCALENDAR
