BEGIN:VCALENDAR
VERSION:2.0
PRODID:researchseminars.org
CALSCALE:GREGORIAN
X-WR-CALNAME:researchseminars.org
BEGIN:VEVENT
SUMMARY:A.B. Klimov
DTSTART:20240903T134000Z
DTEND:20240903T151000Z
DTSTAMP:20260423T040007Z
UID:QOART/12
DESCRIPTION:Title: <a href="https://researchseminars.org/talk/QOART/12/">D
 iscrete phase-space description of N-partite quantum systems: from visuali
 zation to quantification of quantum correlations</a>\nby A.B. Klimov as pa
 rt of Quantum Optics and Related Topics\n\n\nAbstract\nWe review the appli
 cation of the discrete phase-space approach to analyzing quantum correlati
 ons in many body systems. Starting with a microscopic description\, we pro
 ceed to analyze global features of quantum states detectable in collective
  measurements\, mainly focusing on N-qubit systems in the macroscopic limi
 t N>>1. Applications to quantification/identification of quantum correlati
 ons\, quantum tomography\, phase transitions\, quantum thermalization\, an
 d stability under local noise are outlined. A generalization to higher loc
 al dimensions is discussed.\n
LOCATION:https://researchseminars.org/talk/QOART/12/
END:VEVENT
END:VCALENDAR
