BEGIN:VCALENDAR
VERSION:2.0
PRODID:researchseminars.org
CALSCALE:GREGORIAN
X-WR-CALNAME:researchseminars.org
BEGIN:VEVENT
SUMMARY:Dustin Clausen (University of Copenhagen)
DTSTART:20201125T130000Z
DTEND:20201125T140000Z
DTSTAMP:20260423T041749Z
UID:QMULANTS/6
DESCRIPTION:Title: <a href="https://researchseminars.org/talk/QMULANTS/6/"
 >Non-archimedean analysis and geometry</a>\nby Dustin Clausen (University 
 of Copenhagen) as part of Queen Mary University of London Algebra and Numb
 er Theory Seminar\n\n\nAbstract\nBuliding on the previous talk\, I'll defi
 ne a full subcategory of condensed abelian groups called "solid" abelian g
 roups\, and explain how it yields a very convenient base category for non-
 archimedean analysis and geometry.\n
LOCATION:https://researchseminars.org/talk/QMULANTS/6/
END:VEVENT
END:VCALENDAR
