BEGIN:VCALENDAR
VERSION:2.0
PRODID:researchseminars.org
CALSCALE:GREGORIAN
X-WR-CALNAME:researchseminars.org
BEGIN:VEVENT
SUMMARY:Robert Brady (Cambridge)
DTSTART:20200707T160000Z
DTEND:20200707T170000Z
DTSTAMP:20260423T010943Z
UID:QMFNoT/8
DESCRIPTION:Title: <a href="https://researchseminars.org/talk/QMFNoT/8/">I
 n memoriam: Yves Couder</a>\nby Robert Brady (Cambridge) as part of QM Fou
 ndations & Nature of Time seminar\n\n\nAbstract\nYves Couder died on 2 Apr
 il 2019. He showed how to make droplets of oil bounce on an oil surface\, 
 spawning a renewed interest in the net forces between oscillating systems.
  Bouncing droplets are governed by the ordinary equations of Newtonian mec
 hanics\, yet experimentally their motion mimics the known equations of spe
 cial relativity\, electromagnetism\, and quantum mechanics. I will show wh
 y this is the case\, in an idealised system where the pumping acceleration
  can be neglected. I will then briefly discuss my ongoing research in a re
 lated system in superfluid helium\, where pumping is superfluous and the p
 redictions may be tested against experiment.\n\nIn order to maintain your 
 interest\, and to pay respect to Yves\, I will give an interpretation of h
 is work which is controversial. If his results had been known 100 years ag
 o\, they would probably have changed the debate\, from 1905 to 1922\, betw
 een Einstein and Lorentz on how to interpret the equations of special rela
 tivity.\n
LOCATION:https://researchseminars.org/talk/QMFNoT/8/
END:VEVENT
END:VCALENDAR
