BEGIN:VCALENDAR
VERSION:2.0
PRODID:researchseminars.org
CALSCALE:GREGORIAN
X-WR-CALNAME:researchseminars.org
BEGIN:VEVENT
SUMMARY:Dhiraj Sinha (Plaksha University)
DTSTART:20250322T150000Z
DTEND:20250322T170000Z
DTSTAMP:20260423T010942Z
UID:QMFNoT/64
DESCRIPTION:Title: <a href="https://researchseminars.org/talk/QMFNoT/64/">
 Electrodynamic Excitation of Electrons Under Temporal Variation of Magneti
 c Flux</a>\nby Dhiraj Sinha (Plaksha University) as part of QM Foundations
  & Nature of Time seminar\n\n\nAbstract\nCurrently\, the energy of a photo
 n is considered to be an experimental fact which does not have any formal 
 mathematical derivation and for over 100 years\, we have been told that Ma
 xwell's electromagnetism cannot explain how light energises electrons.  Th
 e focus of the talk  would be on looking at the role of Maxwell's equation
 s in defining light matter interaction at optical frequencies.  The tempor
 al variation of magnetic flux of electromagnetic radiation offers a pathwa
 y towards derivation of the energy of a photon. The theoretical framework 
 offers a novel perspective on looking at the missing link between classica
 l electromagnetism and quantum mechanical concept of a photon.\n
LOCATION:https://researchseminars.org/talk/QMFNoT/64/
END:VEVENT
END:VCALENDAR
