BEGIN:VCALENDAR
VERSION:2.0
PRODID:researchseminars.org
CALSCALE:GREGORIAN
X-WR-CALNAME:researchseminars.org
BEGIN:VEVENT
SUMMARY:Marc Fleury
DTSTART:20250329T163000Z
DTEND:20250329T170000Z
DTSTAMP:20260423T021345Z
UID:QMFNoT/61
DESCRIPTION:Title: <a href="https://researchseminars.org/talk/QMFNoT/61/">
 Critical review of particle Zitter and field approach to Zitter</a>\nby Ma
 rc Fleury as part of QM Foundations & Nature of Time seminar\n\nAbstract: 
 TBA\n
LOCATION:https://researchseminars.org/talk/QMFNoT/61/
END:VEVENT
END:VCALENDAR
