BEGIN:VCALENDAR
VERSION:2.0
PRODID:researchseminars.org
CALSCALE:GREGORIAN
X-WR-CALNAME:researchseminars.org
BEGIN:VEVENT
SUMMARY:Manfried Faber (TU Wien)
DTSTART:20220428T150000Z
DTEND:20220428T170000Z
DTSTAMP:20260423T011048Z
UID:QMFNoT/33
DESCRIPTION:Title: <a href="https://researchseminars.org/talk/QMFNoT/33/">
 From soft Dirac monopoles to the Dirac equation</a>\nby Manfried Faber (TU
  Wien) as part of QM Foundations & Nature of Time seminar\n\n\nAbstract\nI
 n the model of topological particles we have four types of topologically s
 table dual Dirac monopoles with soft core and finite mass. We discuss the 
 steps how to geta Dirac equation for these particles. We show especially t
 hat we arrive at the Dirac equation in the limit\, where the soft solitons
  approach singular dual Dirac monopoles.\n
LOCATION:https://researchseminars.org/talk/QMFNoT/33/
END:VEVENT
END:VCALENDAR
