BEGIN:VCALENDAR
VERSION:2.0
PRODID:researchseminars.org
CALSCALE:GREGORIAN
X-WR-CALNAME:researchseminars.org
BEGIN:VEVENT
SUMMARY:Álvaro García López (URJC)
DTSTART:20200929T160000Z
DTEND:20200929T170000Z
DTSTAMP:20260423T011100Z
UID:QMFNoT/17
DESCRIPTION:Title: <a href="https://researchseminars.org/talk/QMFNoT/17/">
 On an electrodynamic origin of quantum fluctuations</a>\nby Álvaro Garcí
 a López (URJC) as part of QM Foundations & Nature of Time seminar\n\n\nAb
 stract\nWe use the Liénard–Wiechert potential to show that very violent
  fluctuations are experienced by an electromagnetic charged extended parti
 cle when it is perturbed from its rest state. The feedback interaction of 
 Coulombian and radiative fields among different charged parts of the parti
 cle makes uniform motion unstable. Then\, we show that radiative fields an
 d radiation reaction produce dissipative and antidamping effects\, trigger
 ing a self-oscillation. Finally\, we compute the self-potential\, which in
  addition to rest and kinetic energy\, gives rise to a new contribution th
 at shares features with the quantum potential. We suggest that this contri
 bution to self-energy produces a symmetry breaking of the Lorentz group\, 
 bridging classical electromagnetism and quantum mechanics\n
LOCATION:https://researchseminars.org/talk/QMFNoT/17/
END:VEVENT
END:VCALENDAR
