BEGIN:VCALENDAR
VERSION:2.0
PRODID:researchseminars.org
CALSCALE:GREGORIAN
X-WR-CALNAME:researchseminars.org
BEGIN:VEVENT
SUMMARY:Melody Molander (University of California\, Santa Barbara\, USA)
DTSTART:20230314T150000Z
DTEND:20230314T160000Z
DTSTAMP:20260422T182333Z
UID:QGS/83
DESCRIPTION:Title: <a href="https://researchseminars.org/talk/QGS/83/">Ske
 in Theory for Affine ADE Subfactor Planar Algebras</a>\nby Melody Molander
  (University of California\, Santa Barbara\, USA) as part of Quantum Group
 s Seminar [QGS]\n\n\nAbstract\nSubfactor planar algebras first were constr
 ucted by Vaughan Jones as a diagrammatic axiomatization of the standard in
 variant of a subfactor. These planar algebras also encode two other invari
 ants of the subfactors: the index and the principal graph. The Kuperberg P
 rogram asks to find all diagrammatic presentations of subfactor planar alg
 ebras. This program has been completed for index less than 4. In this talk
 \, I will introduce subfactor planar algebras and give some presentations 
 of subfactor planar algebras of index 4 which have affine ADE Dynkin diagr
 ams as their principal graphs.\n
LOCATION:https://researchseminars.org/talk/QGS/83/
END:VEVENT
END:VCALENDAR
