BEGIN:VCALENDAR
VERSION:2.0
PRODID:researchseminars.org
CALSCALE:GREGORIAN
X-WR-CALNAME:researchseminars.org
BEGIN:VEVENT
SUMMARY:Erik Habbestad (Universityof Oslo\, Norway)
DTSTART:20221213T150000Z
DTEND:20221213T160000Z
DTSTAMP:20260422T180410Z
UID:QGS/70
DESCRIPTION:Title: <a href="https://researchseminars.org/talk/QGS/70/">C*-
 algebras associated to Temperley-Lieb polynomials</a>\nby Erik Habbestad (
 Universityof Oslo\, Norway) as part of Quantum Groups Seminar [QGS]\n\n\nA
 bstract\nWe define Temperley-Lieb polynomials and consider the (standard) 
 subproduct systems they generate. This subproduct system turns out to be e
 quivariant with respect to a compact quantum group G monoidally equivalent
  to $U_q(2)$. Exploiting this we are able to describe the C*-algebras asso
 ciated to the subproduct system\, which turn out to be closesly related to
  the linking algebra $B(U_q(2)\,G)$. This is joint work with Sergey Neshve
 yev.\n
LOCATION:https://researchseminars.org/talk/QGS/70/
END:VEVENT
END:VCALENDAR
