BEGIN:VCALENDAR
VERSION:2.0
PRODID:researchseminars.org
CALSCALE:GREGORIAN
X-WR-CALNAME:researchseminars.org
BEGIN:VEVENT
SUMMARY:Leandro Vendramin (Vrije Universiteit Brussel\, Belgium)
DTSTART:20251124T150000Z
DTEND:20251124T160000Z
DTSTAMP:20260422T182333Z
UID:QGS/135
DESCRIPTION:Title: <a href="https://researchseminars.org/talk/QGS/135/">Ni
 chols algebras over (solvable) groups</a>\nby Leandro Vendramin (Vrije Uni
 versiteit Brussel\, Belgium) as part of Quantum Groups Seminar [QGS]\n\n\n
 Abstract\nNichols algebras appear in various areas of mathematics\, rangin
 g from Hopf algebras and quantum groups to Schubert calculus and conformal
  field theory. In this talk\, I will review the main challenges in classif
 ying Nichols algebras over groups and discuss some recent classification t
 heorems. In particular\, I will highlight a recent classification result (
 https://arxiv.org/abs/2411.02304)\, achieved in collaboration with Andrusk
 iewitsch and Heckenberger\, concerning finite-dimensional Nichols algebras
  over solvable groups.\n
LOCATION:https://researchseminars.org/talk/QGS/135/
END:VEVENT
END:VCALENDAR
