BEGIN:VCALENDAR
VERSION:2.0
PRODID:researchseminars.org
CALSCALE:GREGORIAN
X-WR-CALNAME:researchseminars.org
BEGIN:VEVENT
SUMMARY:Kenny De Commer (Vrije Universiteit Brussel\, Belgium)
DTSTART:20251103T150000Z
DTEND:20251103T160000Z
DTSTAMP:20260422T180654Z
UID:QGS/132
DESCRIPTION:Title: <a href="https://researchseminars.org/talk/QGS/132/">Br
 aided tensor product of von Neumann algebras</a>\nby Kenny De Commer (Vrij
 e Universiteit Brussel\, Belgium) as part of Quantum Groups Seminar [QGS]\
 n\n\nAbstract\nWork of Meyer\, Roy and Woronowicz has shown that the categ
 ory of C*-algebras with an action by a quasi-triangular quantum group admi
 ts a monoidal structure by means of a braided tensor product. We have show
 n that a similar result holds if instead we work with actions on von Neuma
 nn algebras. Moreover\, particular to this setting\, we are able to show h
 ow (part of the) modular theory of a braided tensor product behaves. We wi
 ll frame the latter result in a more general setting of cocycle deformatio
 ns. This is joint work with J. Krajczok.\n
LOCATION:https://researchseminars.org/talk/QGS/132/
END:VEVENT
END:VCALENDAR
