BEGIN:VCALENDAR
VERSION:2.0
PRODID:researchseminars.org
CALSCALE:GREGORIAN
X-WR-CALNAME:researchseminars.org
BEGIN:VEVENT
SUMMARY:Thomas Mertens (Ghent University)
DTSTART:20210610T150000Z
DTEND:20210610T170000Z
DTSTAMP:20260423T040044Z
UID:QGHOLQI/5
DESCRIPTION:Title: <a href="https://researchseminars.org/talk/QGHOLQI/5/">
 Bulk observables in Jackiw-Teitelboim gravity</a>\nby Thomas Mertens (Ghen
 t University) as part of Quantum Gravity and All of That\n\n\nAbstract\nUs
 ing a definition of bulk diff-invariant observables\, we go into the bulk 
 of 2d Jackiw-Teitelboim gravity. By mapping the computation to a Schwarzia
 n path integral\, we study exact bulk correlation functions and discuss th
 eir physical implications. We describe how the black hole thermal atmosphe
 re gets modified by quantum gravitational corrections. Finally\, we will d
 iscuss how higher topological effects further modify the spectral density 
 and detector response in the Unruh heat bath.\nBased on arXiv:1902.11194\,
  1903.10485\, 2005.13058 and work in progress.\n
LOCATION:https://researchseminars.org/talk/QGHOLQI/5/
END:VEVENT
END:VCALENDAR
