BEGIN:VCALENDAR
VERSION:2.0
PRODID:researchseminars.org
CALSCALE:GREGORIAN
X-WR-CALNAME:researchseminars.org
BEGIN:VEVENT
SUMMARY:William Donnelly (Perimeter Institute)
DTSTART:20201102T170000Z
DTEND:20201102T180000Z
DTSTAMP:20260423T022033Z
UID:QG-AA/2
DESCRIPTION:Title: <a href="https://researchseminars.org/talk/QG-AA/2/">Dr
 essed observables in perturbative quantum gravity</a>\nby William Donnelly
  (Perimeter Institute) as part of Quantum Gravity Across Approaches\n\nAbs
 tract: TBA\n
LOCATION:https://researchseminars.org/talk/QG-AA/2/
END:VEVENT
END:VCALENDAR
