BEGIN:VCALENDAR
VERSION:2.0
PRODID:researchseminars.org
CALSCALE:GREGORIAN
X-WR-CALNAME:researchseminars.org
BEGIN:VEVENT
SUMMARY:Sachiko Kuroyanagi
DTSTART:20220224T160000Z
DTEND:20220224T173000Z
DTSTAMP:20260423T041525Z
UID:QG-AA/12
DESCRIPTION:Title: <a href="https://researchseminars.org/talk/QG-AA/12/">S
 tochastic gravitational wave background in quantum gravity</a>\nby Sachiko
  Kuroyanagi as part of Quantum Gravity Across Approaches\n\nAbstract: TBA\
 n
LOCATION:https://researchseminars.org/talk/QG-AA/12/
END:VEVENT
END:VCALENDAR
