BEGIN:VCALENDAR
VERSION:2.0
PRODID:researchseminars.org
CALSCALE:GREGORIAN
X-WR-CALNAME:researchseminars.org
BEGIN:VEVENT
SUMMARY:Abhijit Gadde (TIFR)
DTSTART:20200723T160000Z
DTEND:20200723T170000Z
DTSTAMP:20260423T023050Z
UID:QFTandGeo/6
DESCRIPTION:Title: <a href="https://researchseminars.org/talk/QFTandGeo/6/
 ">Modularity of supersymmetric partition functions</a>\nby Abhijit Gadde (
 TIFR) as part of QFT and Geometry\n\nAbstract: TBA\n
LOCATION:https://researchseminars.org/talk/QFTandGeo/6/
END:VEVENT
END:VCALENDAR
