BEGIN:VCALENDAR
VERSION:2.0
PRODID:researchseminars.org
CALSCALE:GREGORIAN
X-WR-CALNAME:researchseminars.org
BEGIN:VEVENT
SUMMARY:Matias Zaldarriaga (School of Natural Sciences\, Astrophysics and 
 Cosmology\, Institute for Advanced Studies\, Princeton\, USA)
DTSTART:20200601T130000Z
DTEND:20200601T150000Z
DTSTAMP:20260423T010928Z
UID:QASTM/7
DESCRIPTION:Title: <a href="https://researchseminars.org/talk/QASTM/7/">Ch
 allenges for physical cosmology after Planck</a>\nby Matias Zaldarriaga (S
 chool of Natural Sciences\, Astrophysics and Cosmology\, Institute for Adv
 anced Studies\, Princeton\, USA) as part of Quantum Aspects of Space-Time 
 and Matter\n\n\nAbstract\nI will summarize the current state of physical c
 osmology. I will describe the open questions that remain and the challenge
 s that need to be overcome to make progress.\n
LOCATION:https://researchseminars.org/talk/QASTM/7/
END:VEVENT
END:VCALENDAR
