BEGIN:VCALENDAR
VERSION:2.0
PRODID:researchseminars.org
CALSCALE:GREGORIAN
X-WR-CALNAME:researchseminars.org
BEGIN:VEVENT
SUMMARY:Reihaneh Vafadar (Université Laval)
DTSTART:20221130T160000Z
DTEND:20221130T163000Z
DTSTAMP:20260423T021752Z
UID:QARF/3
DESCRIPTION:Title: <a href="https://researchseminars.org/talk/QARF/3/">On 
 divergence-free (form-bounded type) drifts</a>\nby Reihaneh Vafadar (Unive
 rsité Laval) as part of Quebec Analysis and Related Fields Graduate Semin
 ar\n\n\nAbstract\nWe develop regularity theory for elliptic Kolmogorov ope
 rator with divergence-free drift in a large class (or\, more generally\, d
 rift having singular divergence). A key step in our proofs is "Caccioppoli
 's iterations"\, used in addition to the classical De Giorgi's iterations 
 and Moser's method.\n\nThis talk is based on joint work with Damir Kinzebu
 latov (Université Laval)\n
LOCATION:https://researchseminars.org/talk/QARF/3/
END:VEVENT
END:VCALENDAR
