BEGIN:VCALENDAR
VERSION:2.0
PRODID:researchseminars.org
CALSCALE:GREGORIAN
X-WR-CALNAME:researchseminars.org
BEGIN:VEVENT
SUMMARY:Lawrence Lessig (Harvard)
DTSTART:20240227T160000Z
DTEND:20240227T180000Z
DTSTAMP:20260423T021603Z
UID:PublicAI/9
DESCRIPTION:Title: <a href="https://researchseminars.org/talk/PublicAI/9/"
 >Regulability of AI</a>\nby Lawrence Lessig (Harvard) as part of Public AI
  Seminar\n\nAbstract: TBA\n
LOCATION:https://researchseminars.org/talk/PublicAI/9/
END:VEVENT
END:VCALENDAR
