BEGIN:VCALENDAR
VERSION:2.0
PRODID:researchseminars.org
CALSCALE:GREGORIAN
X-WR-CALNAME:researchseminars.org
BEGIN:VEVENT
SUMMARY:Rick Stevens (Chicago / Argonne National Labs)
DTSTART:20240123T160000Z
DTEND:20240123T170000Z
DTSTAMP:20260423T021605Z
UID:PublicAI/5
DESCRIPTION:Title: <a href="https://researchseminars.org/talk/PublicAI/5/"
 >Case study: AuroraGPT</a>\nby Rick Stevens (Chicago / Argonne National La
 bs) as part of Public AI Seminar\n\nAbstract: TBA\n
LOCATION:https://researchseminars.org/talk/PublicAI/5/
END:VEVENT
END:VCALENDAR
