BEGIN:VCALENDAR
VERSION:2.0
PRODID:researchseminars.org
CALSCALE:GREGORIAN
X-WR-CALNAME:researchseminars.org
BEGIN:VEVENT
SUMMARY:Kim Stanley Robinson (author)
DTSTART:20250610T150000Z
DTEND:20250610T170000Z
DTSTAMP:20260423T004700Z
UID:PublicAI/33
DESCRIPTION:Title: <a href="https://researchseminars.org/talk/PublicAI/33/
 ">The near possible future of AI</a>\nby Kim Stanley Robinson (author) as 
 part of Public AI Seminar\n\nAbstract: TBA\n
LOCATION:https://researchseminars.org/talk/PublicAI/33/
END:VEVENT
END:VCALENDAR
