BEGIN:VCALENDAR
VERSION:2.0
PRODID:researchseminars.org
CALSCALE:GREGORIAN
X-WR-CALNAME:researchseminars.org
BEGIN:VEVENT
SUMMARY:Bruce Schneier (Harvard)
DTSTART:20240109T160000Z
DTEND:20240109T180000Z
DTSTAMP:20260423T021651Z
UID:PublicAI/3
DESCRIPTION:Title: <a href="https://researchseminars.org/talk/PublicAI/3/"
 >A public option for AI</a>\nby Bruce Schneier (Harvard) as part of Public
  AI Seminar\n\nAbstract: TBA\n
LOCATION:https://researchseminars.org/talk/PublicAI/3/
END:VEVENT
END:VCALENDAR
