BEGIN:VCALENDAR
VERSION:2.0
PRODID:researchseminars.org
CALSCALE:GREGORIAN
X-WR-CALNAME:researchseminars.org
BEGIN:VEVENT
SUMMARY:Reema Selhi (DACS\, British Copyright Council)
DTSTART:20250422T160000Z
DTEND:20250422T170000Z
DTSTAMP:20260423T024518Z
UID:PublicAI/25
DESCRIPTION:Title: <a href="https://researchseminars.org/talk/PublicAI/25/
 ">AI and copyright</a>\nby Reema Selhi (DACS\, British Copyright Council) 
 as part of Public AI Seminar\n\nAbstract: TBA\n
LOCATION:https://researchseminars.org/talk/PublicAI/25/
END:VEVENT
END:VCALENDAR
