BEGIN:VCALENDAR
VERSION:2.0
PRODID:researchseminars.org
CALSCALE:GREGORIAN
X-WR-CALNAME:researchseminars.org
BEGIN:VEVENT
SUMMARY:Louis Gaudet
DTSTART:20201002T174000Z
DTEND:20201002T184000Z
DTSTAMP:20260423T021725Z
UID:Pizza/5
DESCRIPTION:Title: <a href="https://researchseminars.org/talk/Pizza/5/">Di
 richlet’s theorem + ghosts + a surprise</a>\nby Louis Gaudet as part of 
 Pizza Seminar\n\n\nAbstract\nP. G. L. Dirichlet is considered by many to h
 ave created the field of analytic number theory in 1837 when he used analy
 tic methods to prove the infinitude of primes in arithmetic progressions. 
 I think it’s a fantastic proof---we’ll go through it together\, and (t
 ime permitting) we’ll take a closer look at the remarkable properties of
  the L-functions involved. (Spoiler alert: these L-functions may be haunte
 d!) Lastly\, I’ll make sure to take a brief intermission during the talk
  to show you something completely unrelated—I want to share a bit of how
  I’ve been “staying sane” during the quarantine...\n
LOCATION:https://researchseminars.org/talk/Pizza/5/
END:VEVENT
END:VCALENDAR
