BEGIN:VCALENDAR
VERSION:2.0
PRODID:researchseminars.org
CALSCALE:GREGORIAN
X-WR-CALNAME:researchseminars.org
BEGIN:VEVENT
SUMMARY:Baozhi Louw
DTSTART:20210212T184000Z
DTEND:20210212T194000Z
DTSTAMP:20260423T005740Z
UID:Pizza/15
DESCRIPTION:Title: <a href="https://researchseminars.org/talk/Pizza/15/">M
 ethod of Continuity and Linear elliptic PDEs</a>\nby Baozhi Louw as part o
 f Pizza Seminar\n\n\nAbstract\nI will introduce what is elliptic PDE and M
 ethod of Continuity. And using these materials as a concrete example\, we 
 will see what we want to prove in the PDE Theory\, for example\, priori es
 timates. And we will see somehow why estimates are important in PDE Theory
 . The talk may include a detailed proof of a functional analysis lemme whi
 ch is the base of method of continuity and a detailed application of that 
 lemme\, and some big pictures of PDE Theory.\n
LOCATION:https://researchseminars.org/talk/Pizza/15/
END:VEVENT
END:VCALENDAR
