BEGIN:VCALENDAR
VERSION:2.0
PRODID:researchseminars.org
CALSCALE:GREGORIAN
X-WR-CALNAME:researchseminars.org
BEGIN:VEVENT
SUMMARY:Kasumi et al.
DTSTART:20201211T184000Z
DTEND:20201211T194000Z
DTSTAMP:20260423T004755Z
UID:Pizza/12
DESCRIPTION:Title: <a href="https://researchseminars.org/talk/Pizza/12/">F
 ive Minute Talks</a>\nby Kasumi et al. as part of Pizza Seminar\n\nAbstrac
 t: TBA\n
LOCATION:https://researchseminars.org/talk/Pizza/12/
END:VEVENT
END:VCALENDAR
