BEGIN:VCALENDAR
VERSION:2.0
PRODID:researchseminars.org
CALSCALE:GREGORIAN
X-WR-CALNAME:researchseminars.org
BEGIN:VEVENT
SUMMARY:Fan Gao (Zhejiang University)
DTSTART:20230412T073000Z
DTEND:20230412T083000Z
DTSTAMP:20260423T040227Z
UID:PekiNT/3
DESCRIPTION:Title: <a href="https://researchseminars.org/talk/PekiNT/3/">S
 ome satisfactory and unsatisfactory aspects of the dual groups for central
  covers</a>\nby Fan Gao (Zhejiang University) as part of PKU/BICMR Number 
 Theory Seminar\n\nLecture held in Room 77201\, BICMR.\n\nAbstract\nWe cons
 ider finite degree central covers of a linear reductive group in the local
  setting. Using some examples as the highlights\, we will explain the dual
  group of such a central cover\, and illustrate how much it captures the r
 epresentation-theoretic information of the central cover\, and also how mu
 ch it fails for the same purpose. We concentrate on two aspects of a repre
 sentation: formal degree and wavefront set.\n\nZoom number: 743 736 2326\n
 Zoom password: 013049.\n
LOCATION:https://researchseminars.org/talk/PekiNT/3/
END:VEVENT
END:VCALENDAR
