BEGIN:VCALENDAR
VERSION:2.0
PRODID:researchseminars.org
CALSCALE:GREGORIAN
X-WR-CALNAME:researchseminars.org
BEGIN:VEVENT
SUMMARY:Oscar Varela (USU)
DTSTART:20200925T174500Z
DTEND:20200925T184500Z
DTSTAMP:20260423T022055Z
UID:PUHET/2
DESCRIPTION:Title: <a href="https://researchseminars.org/talk/PUHET/2/">Ad
 S4/CFT3 Squashed\, Stretched\, Warped and Invaded</a>\nby Oscar Varela (US
 U) as part of Princeton HET seminar\n\n\nAbstract\nThe spectrum of single-
 trace operators of holographic CFTs at strong coupling and large N can be 
 mapped to the spectrum of Kaluza-Klein modes over the dual AdS supergravit
 y solutions. In this talk\, I will focus on two specific CFT3s with AdS4xS
 7 gravity duals that arise as infrared fixed points of the ABJM M2-brane f
 ield theory deformed with a certain quadratic and a certain cubic superpot
 ential. In both cases\, the AdS4xS7 product is warped and the metric on S7
  is squashed and stretched. In the quadratic case\, I will show how Except
 ional Field Theory techniques can be used to compute the entire spectrum. 
 In the cubic case\, I will show that the spectrum exhibits a space-invader
 s scenario\, similar to that known to occur for another squashed AdS4xS7 s
 olution.\n
LOCATION:https://researchseminars.org/talk/PUHET/2/
END:VEVENT
END:VCALENDAR
