BEGIN:VCALENDAR
VERSION:2.0
PRODID:researchseminars.org
CALSCALE:GREGORIAN
X-WR-CALNAME:researchseminars.org
BEGIN:VEVENT
SUMMARY:Ranthony A.C. Edmonds and John H. Johnson\, Jr. (The Ohio State Un
 iversity)
DTSTART:20200716T200000Z
DTEND:20200716T210000Z
DTSTAMP:20260423T052956Z
UID:PRiME2020/8
DESCRIPTION:Title: <a href="https://researchseminars.org/talk/PRiME2020/8/
 ">Connecting the Dots: Dorothy Vaughan and Community in the Hidden Figures
  Story</a>\nby Ranthony A.C. Edmonds and John H. Johnson\, Jr. (The Ohio S
 tate University) as part of PRiME: Pomona Research in Mathematics Experien
 ce\n\nAbstract: TBA\n
LOCATION:https://researchseminars.org/talk/PRiME2020/8/
END:VEVENT
END:VCALENDAR
