BEGIN:VCALENDAR
VERSION:2.0
PRODID:researchseminars.org
CALSCALE:GREGORIAN
X-WR-CALNAME:researchseminars.org
BEGIN:VEVENT
SUMMARY:Christophe Breuil (CNRS\, Université Paris-Sud)
DTSTART:20200617T083000Z
DTEND:20200617T093000Z
DTSTAMP:20260423T004912Z
UID:PPT/4
DESCRIPTION:Title: <a href="https://researchseminars.org/talk/PPT/4/">On m
 odular representations of GL_2(L) for unramified L</a>\nby Christophe Breu
 il (CNRS\, Université Paris-Sud) as part of Beijing-Paris-Tokyo arithmeti
 c geometry webinar\n\n\nAbstract\nLet p be a prime number and L a finite u
 nramified extension of Q_p. We give a survey of past and new results on sm
 ooth admissible representations of GL_2(L) that appear in mod p cohomology
 . This is joint work with Florian Herzig\, Yongquan Hu\, Stefano Morra and
  Benjamin Schraen.\n\nThe organizers of the Beijing-Paris-Tokyo Arithmetic
  Geometry Seminar stands in solidarity with our black colleagues\, in the 
 US and around the world\, in the struggle against the plague of systemic r
 acism. In response to the call launched by #ShutDownAcademia\, #ShutDownSt
 em and #Strike4BlackLives movements\, we decided\, in agreement with the s
 peaker\, to move Christophe Breuil's lecture from Wednesday June 10 to Wed
 nesday June 17 at 10:30 am (Paris). The lecture will be given by webinar. 
 If you have not yet registered\, you can do so by filling in the form belo
 w before June 16.\n
LOCATION:https://researchseminars.org/talk/PPT/4/
END:VEVENT
END:VCALENDAR
