BEGIN:VCALENDAR
VERSION:2.0
PRODID:researchseminars.org
CALSCALE:GREGORIAN
X-WR-CALNAME:researchseminars.org
BEGIN:VEVENT
SUMMARY:Arnaud Mayeux (BICMR)
DTSTART:20200506T080000Z
DTEND:20200506T090000Z
DTSTAMP:20260423T005839Z
UID:POINTS/1
DESCRIPTION:Title: <a href="https://researchseminars.org/talk/POINTS/1/">D
 ilatations and Néron blowups (with Timo Richarz and Matthieu Romagny)</a>
 \nby Arnaud Mayeux (BICMR) as part of POINTS - Peking Online International
  Number Theory Seminar\n\nAbstract: TBA\n
LOCATION:https://researchseminars.org/talk/POINTS/1/
END:VEVENT
END:VCALENDAR
