BEGIN:VCALENDAR
VERSION:2.0
PRODID:researchseminars.org
CALSCALE:GREGORIAN
X-WR-CALNAME:researchseminars.org
BEGIN:VEVENT
SUMMARY:Monica Jinwoo Kang (Caltech)
DTSTART:20220818T220000Z
DTEND:20220818T233000Z
DTSTAMP:20260423T024532Z
UID:PIMS_GAP/7
DESCRIPTION:Title: <a href="https://researchseminars.org/talk/PIMS_GAP/7/"
 >A universal formula for the density of states with global symmetry</a>\nb
 y Monica Jinwoo Kang (Caltech) as part of PIMS Geometry / Algebra / Physic
 s (GAP) Seminar\n\nLecture held in THORV 124.\n\nAbstract\nIt has long bee
 n the case that representation theory played an important role in understa
 nding the spectrum of states in physics. I will describe how it can be use
 d to describe some universal aspect of $d$-dimensional unitary conformal f
 ield theories with a global symmetry group\, which can be a discrete group
  or a compact Lie group.\n\nHybrid delivery (in person on University of Sa
 skatchewan campus and via Zoom).\n
LOCATION:https://researchseminars.org/talk/PIMS_GAP/7/
END:VEVENT
END:VCALENDAR
