BEGIN:VCALENDAR
VERSION:2.0
PRODID:researchseminars.org
CALSCALE:GREGORIAN
X-WR-CALNAME:researchseminars.org
BEGIN:VEVENT
SUMMARY:Anne Dranowski (University of Southern California)
DTSTART:20220324T220000Z
DTEND:20220324T233000Z
DTSTAMP:20260423T024515Z
UID:PIMS_GAP/2
DESCRIPTION:Title: <a href="https://researchseminars.org/talk/PIMS_GAP/2/"
 >Computing fusion products of MV cycles using the Mirkovic–Vybornov isom
 orphism</a>\nby Anne Dranowski (University of Southern California) as part
  of PIMS Geometry / Algebra / Physics (GAP) Seminar\n\n\nAbstract\nThe fus
 ion of two subvarieties in the affine Grassmannian is a degeneration of th
 eir product\, defined using the Beilinson-Drinfeld Grassmannian. In this t
 alk\, we present a conceptually elementary approach to computing this prod
 uct in type A when the varieties are MV cycles. As an application\, we can
  compute all cluster exchange relations in the coordinate ring of the uppe
 r-triangular subgroup of $\\text{GL}_4$\, confirming that all the cluster 
 variables are contained in the basis of MV cycles.\n
LOCATION:https://researchseminars.org/talk/PIMS_GAP/2/
END:VEVENT
END:VCALENDAR
