BEGIN:VCALENDAR
VERSION:2.0
PRODID:researchseminars.org
CALSCALE:GREGORIAN
X-WR-CALNAME:researchseminars.org
BEGIN:VEVENT
SUMMARY:Aleksei Ilin (University of Toronto)
DTSTART:20221215T223000Z
DTEND:20221216T000000Z
DTSTAMP:20260423T005720Z
UID:PIMS_GAP/10
DESCRIPTION:Title: <a href="https://researchseminars.org/talk/PIMS_GAP/10/
 ">Bethe subalgebras of Yangians</a>\nby Aleksei Ilin (University of Toront
 o) as part of PIMS Geometry / Algebra / Physics (GAP) Seminar\n\nLecture h
 eld in THORV 124.\n\nAbstract\nThe main object of this talk is the family 
 of commutative Bethe subaglebras in the Yangian. It is a natural family of
  commutative subalgebras of the Yangian parameterized by the simple adjoin
 t Lie group. In my talk I will discuss how this family is connected with v
 arious wonderful compactifications. I also plan to discuss applications of
  this family to the theory of crystals.\n\nHybrid delivery (in person on U
 niversity of Saskatchewan campus and via Zoom).\n
LOCATION:https://researchseminars.org/talk/PIMS_GAP/10/
END:VEVENT
END:VCALENDAR
