BEGIN:VCALENDAR
VERSION:2.0
PRODID:researchseminars.org
CALSCALE:GREGORIAN
X-WR-CALNAME:researchseminars.org
BEGIN:VEVENT
SUMMARY:Ross Willard (University of Waterloo)
DTSTART:20210420T190000Z
DTEND:20210420T200000Z
DTSTAMP:20260423T004730Z
UID:PALS/11
DESCRIPTION:Title: <a href="https://researchseminars.org/talk/PALS/11/">In
 herently nonfinitely based nonassociative algebras</a>\nby Ross Willard (U
 niversity of Waterloo) as part of PALS Panglobal Algebra and Logic Seminar
 \n\n\nAbstract\nThis is a progress report on an exploration of Isaev's alg
 ebras and their cousins. Isaev's algebras were the first\, and remain the 
 only\, known examples of inherently nonfinitely based finite algebras in M
 altsev varieties. In this talk I will describe a class of finite algebras 
 containing Isaev's algebras\, and explain some basic tools that we have de
 veloped to help determine which of these algebras are inherently nonfinite
 ly based. At the moment we are only able to apply these tools to Isaev's a
 lgebras themselves\, but that won’t stop me from filling the 50-minute t
 ime slot which I have been offered! This is joint work with Emily Carlson\
 , Mehul Gupta and George McNulty.\n
LOCATION:https://researchseminars.org/talk/PALS/11/
END:VEVENT
END:VCALENDAR
