BEGIN:VCALENDAR
VERSION:2.0
PRODID:researchseminars.org
CALSCALE:GREGORIAN
X-WR-CALNAME:researchseminars.org
BEGIN:VEVENT
SUMMARY:Michael I. Jordan (UC Berkeley)
DTSTART:20200714T190000Z
DTEND:20200714T200000Z
DTSTAMP:20260423T021019Z
UID:OptMLStat/8
DESCRIPTION:Title: <a href="https://researchseminars.org/talk/OptMLStat/8/
 ">Optimization with momentum: dynamical\, variational\, and symplectic per
 spectives</a>\nby Michael I. Jordan (UC Berkeley) as part of Online Semina
 r of Mathematical Foundations of Data Science\n\nAbstract: TBA\n
LOCATION:https://researchseminars.org/talk/OptMLStat/8/
END:VEVENT
END:VCALENDAR
