BEGIN:VCALENDAR
VERSION:2.0
PRODID:researchseminars.org
CALSCALE:GREGORIAN
X-WR-CALNAME:researchseminars.org
BEGIN:VEVENT
SUMMARY:Alice Guionnet (ENS Lyon)
DTSTART:20210609T150000Z
DTEND:20210609T155000Z
DTSTAMP:20260423T004516Z
UID:Opalg21/8
DESCRIPTION:Title: <a href="https://researchseminars.org/talk/Opalg21/8/">
 Topological expansions\, Random matrices and free probability</a>\nby Alic
 e Guionnet (ENS Lyon) as part of Conference on operator algebras and relat
 ed topics in Istanbul\, 2021\n\n\nAbstract\nIn this lecture\, I will discu
 ss the remarkable connection between random matrices\, the enumeration of 
 maps and some applications to operator algebras and physics. This talk wil
 l be based on joint works with Vaughan Jones and Dima Shlyakhtenko as well
  as work in progress with Edouard Maurel Segala.\n
LOCATION:https://researchseminars.org/talk/Opalg21/8/
END:VEVENT
END:VCALENDAR
