BEGIN:VCALENDAR
VERSION:2.0
PRODID:researchseminars.org
CALSCALE:GREGORIAN
X-WR-CALNAME:researchseminars.org
BEGIN:VEVENT
SUMMARY:Prof Giuseppe Carleo (EPFL)
DTSTART:20201112T150000Z
DTEND:20201112T160000Z
DTSTAMP:20260423T020959Z
UID:OXML/5
DESCRIPTION:Title: <a href="https://researchseminars.org/talk/OXML/5/">Man
 y-body quantum wave functions in the era of machine learning</a>\nby Prof 
 Giuseppe Carleo (EPFL) as part of Machine Learning and Physics\n\nAbstract
 : TBA\n
LOCATION:https://researchseminars.org/talk/OXML/5/
END:VEVENT
END:VCALENDAR
