BEGIN:VCALENDAR
VERSION:2.0
PRODID:researchseminars.org
CALSCALE:GREGORIAN
X-WR-CALNAME:researchseminars.org
BEGIN:VEVENT
SUMMARY:Prof David Spergel (Princeton University)
DTSTART:20210311T150000Z
DTEND:20210311T160000Z
DTSTAMP:20260423T021041Z
UID:OXML/16
DESCRIPTION:Title: <a href="https://researchseminars.org/talk/OXML/16/">De
 termining the Universe's Initial Conditions</a>\nby Prof David Spergel (Pr
 inceton University) as part of Machine Learning and Physics\n\nAbstract: T
 BA\n
LOCATION:https://researchseminars.org/talk/OXML/16/
END:VEVENT
END:VCALENDAR
