BEGIN:VCALENDAR
VERSION:2.0
PRODID:researchseminars.org
CALSCALE:GREGORIAN
X-WR-CALNAME:researchseminars.org
BEGIN:VEVENT
SUMMARY:Sascha Troscheit (Universität Wien)
DTSTART:20211123T133000Z
DTEND:20211123T143000Z
DTSTAMP:20260423T040001Z
UID:OWNS/66
DESCRIPTION:Title: <a href="https://researchseminars.org/talk/OWNS/66/">An
 alogues of Khintchine's theorem for random attractors</a>\nby Sascha Trosc
 heit (Universität Wien) as part of One World Numeration seminar\n\n\nAbst
 ract\nKhintchine’s theorem is an important result in number theory which
  links the Lebesgue measure of certain limsup sets with the convergence/di
 vergence of naturally occurring volume sums. This behaviour has been obser
 ved for deterministic fractal sets and inspired by this we investigate the
  random settings. Introducing randomisation into the problem makes some pa
 rts more tractable\, while posing separate new challenges. In this talk\, 
 I will present joint work with Simon Baker where we provide sufficient con
 ditions for a large class of stochastically self-similar and self-affine a
 ttractors to have positive Lebesgue measure.\n
LOCATION:https://researchseminars.org/talk/OWNS/66/
END:VEVENT
END:VCALENDAR
