BEGIN:VCALENDAR
VERSION:2.0
PRODID:researchseminars.org
CALSCALE:GREGORIAN
X-WR-CALNAME:researchseminars.org
BEGIN:VEVENT
SUMMARY:Niclas Technau (University of Wisconsin - Madison)
DTSTART:20210706T123000Z
DTEND:20210706T133000Z
DTSTAMP:20260423T021358Z
UID:OWNS/52
DESCRIPTION:Title: <a href="https://researchseminars.org/talk/OWNS/52/">Li
 ttlewood and Duffin-Schaeffer-type problems in diophantine approximation</
 a>\nby Niclas Technau (University of Wisconsin - Madison) as part of One W
 orld Numeration seminar\n\n\nAbstract\nGallagher's theorem describes the m
 ultiplicative diophantine approximation rate of a typical vector. Recently
  Sam Chow and I establish a fully-inhomogeneous version of Gallagher's the
 orem\, and a diophantine fibre refinement. In this talk I outline the proo
 f\, and the tools involved in it.\n
LOCATION:https://researchseminars.org/talk/OWNS/52/
END:VEVENT
END:VCALENDAR
