BEGIN:VCALENDAR
VERSION:2.0
PRODID:researchseminars.org
CALSCALE:GREGORIAN
X-WR-CALNAME:researchseminars.org
BEGIN:VEVENT
SUMMARY:Anna Chiara Lai (Sapienza Università di Roma)
DTSTART:20251007T110000Z
DTEND:20251007T120000Z
DTSTAMP:20260423T021318Z
UID:OWNS/153
DESCRIPTION:Title: <a href="https://researchseminars.org/talk/OWNS/153/">O
 ptimal expansions of Kakeya sequences</a>\nby Anna Chiara Lai (Sapienza Un
 iversità di Roma) as part of One World Numeration seminar\n\n\nAbstract\n
 Expansions of Kakeya sequences generalize the expansions in non-integer ba
 ses and they display analogous redundancy phenomena. In this talk\, we pre
 sent a characterization of optimal expansions of Kakeya sequences\, and we
  provide conditions for the existence of unique expansions with respect to
  Kakeya sequences.\n
LOCATION:https://researchseminars.org/talk/OWNS/153/
END:VEVENT
END:VCALENDAR
