BEGIN:VCALENDAR
VERSION:2.0
PRODID:researchseminars.org
CALSCALE:GREGORIAN
X-WR-CALNAME:researchseminars.org
BEGIN:VEVENT
SUMMARY:Roman Sauer (KIT)
DTSTART:20210216T180000Z
DTEND:20210216T190000Z
DTSTAMP:20260423T004638Z
UID:OSUGGT/28
DESCRIPTION:Title: <a href="https://researchseminars.org/talk/OSUGGT/28/">
 Action on Cantor spaces and macroscopic scalar curvature</a>\nby Roman Sau
 er (KIT) as part of Ohio State Topology and Geometric Group Theory Seminar
 \n\nAbstract: TBA\n
LOCATION:https://researchseminars.org/talk/OSUGGT/28/
END:VEVENT
END:VCALENDAR
