BEGIN:VCALENDAR
VERSION:2.0
PRODID:researchseminars.org
CALSCALE:GREGORIAN
X-WR-CALNAME:researchseminars.org
BEGIN:VEVENT
SUMMARY:Leah Schätzler (University Salzburg)
DTSTART:20220118T170000Z
DTEND:20220118T180000Z
DTSTAMP:20260423T035023Z
UID:OSGA/93
DESCRIPTION:Title: <a href="https://researchseminars.org/talk/OSGA/93/">H
 ölder continuity for a doubly nonlinear equation</a>\nby Leah Schätzler 
 (University Salzburg) as part of Online Seminar "Geometric Analysis"\n\n\n
 Abstract\nThe prototype of the partial differential equations considered i
 n this talk is\n$$\n\\partial_t \\big( |u|^{q-1} u \\big) - \\operatorname
 {div} \\big( |Du|^{p-2} Du \\big) = 0\n\\quad \\text{in } E_T = E \\times 
 (0\,T] \\subset \\mathbb{R}^{N+1}\n$$\nwith parameters $q>0$ and $p>1$.\nW
 ell-known special cases of this doubly nonlinear equation are the porous m
 edium equation ($p=2$)\, the parabolic $p$-Laplace equation ($q=1$) and Tr
 udinger's equation ($q=p-1$).\nI will present H\\"older continuity results
  based on joint work with Verena B\\"ogelein\, Frank Duzaar and Naian Liao
 .\n
LOCATION:https://researchseminars.org/talk/OSGA/93/
END:VEVENT
END:VCALENDAR
