BEGIN:VCALENDAR
VERSION:2.0
PRODID:researchseminars.org
CALSCALE:GREGORIAN
X-WR-CALNAME:researchseminars.org
BEGIN:VEVENT
SUMMARY:Antonio De Rosa (University of Maryland)
DTSTART:20210907T170000Z
DTEND:20210907T180000Z
DTSTAMP:20260423T035022Z
UID:OSGA/76
DESCRIPTION:Title: <a href="https://researchseminars.org/talk/OSGA/76/">Re
 gularity of anisotropic minimal surfaces</a>\nby Antonio De Rosa (Universi
 ty of Maryland) as part of Online Seminar "Geometric Analysis"\n\n\nAbstra
 ct\nI will present regularity theorems for weak minimal surfaces with resp
 ect to anisotropic surface energies\, extending the celebrated isotropic c
 ounterparts proved by Allard.\n
LOCATION:https://researchseminars.org/talk/OSGA/76/
END:VEVENT
END:VCALENDAR
