BEGIN:VCALENDAR
VERSION:2.0
PRODID:researchseminars.org
CALSCALE:GREGORIAN
X-WR-CALNAME:researchseminars.org
BEGIN:VEVENT
SUMMARY:Jerome Wettstein (ETH Zurich)
DTSTART:20211123T180000Z
DTEND:20211123T190000Z
DTSTAMP:20260423T035019Z
UID:OSGA/68
DESCRIPTION:Title: <a href="https://researchseminars.org/talk/OSGA/68/">Pr
 operties of the Half-Harmonic Gradient Flow</a>\nby Jerome Wettstein (ETH 
 Zurich) as part of Online Seminar "Geometric Analysis"\n\n\nAbstract\nIn t
 his talk\, we discuss properties of the fractional harmonic gradient flow 
 with values in $S^{n-1}$ and its generalisation to arbitrary target manifo
 lds\, as investigated by the speaker in . Particular attention is spent on
  comparing the non-local case with the local one\, i.e. the harmonic map f
 low.\n
LOCATION:https://researchseminars.org/talk/OSGA/68/
END:VEVENT
END:VCALENDAR
